BEGIN:VCALENDAR
VERSION:2.0
PRODID:-//St. Martin&#039;s Centre Partnership - ECPv6.7.0//NONSGML v1.0//EN
CALSCALE:GREGORIAN
METHOD:PUBLISH
X-ORIGINAL-URL:https://www.stmartinscentre.org.uk
X-WR-CALDESC:Events for St. Martin&#039;s Centre Partnership
REFRESH-INTERVAL;VALUE=DURATION:PT1H
X-Robots-Tag:noindex
X-PUBLISHED-TTL:PT1H
BEGIN:VTIMEZONE
TZID:Europe/London
BEGIN:DAYLIGHT
TZOFFSETFROM:+0000
TZOFFSETTO:+0100
TZNAME:BST
DTSTART:20260329T010000
END:DAYLIGHT
BEGIN:STANDARD
TZOFFSETFROM:+0100
TZOFFSETTO:+0000
TZNAME:GMT
DTSTART:20261025T010000
END:STANDARD
END:VTIMEZONE
BEGIN:VEVENT
DTSTART;TZID=Europe/London:20260323T130000
DTEND;TZID=Europe/London:20260323T150000
DTSTAMP:20260419T160553
CREATED:20260129T142709Z
LAST-MODIFIED:20260129T142709Z
UID:10014096-1774270800-1774278000@www.stmartinscentre.org.uk
SUMMARY:Memory Tea (Dementia Friendly)
DESCRIPTION:Second and fourth Monday of each month. Suggestion donation of £2.00. \nDementia friendly\, carers\, friends and family welcome.\nCome along and join in our dementia friendly fun activities or just enjoy a cuppa and a chat! If you would like more information\, please call Yvonne on 0191 276 4002.
URL:https://www.stmartinscentre.org.uk/event/memory-tea-6-3-2-2-2-3/2026-03-23/
ATTACH;FMTTYPE=image/jpeg:https://www.stmartinscentre.org.uk/wp-content/uploads/2024/03/memory-tea.jpg
END:VEVENT
END:VCALENDAR