BEGIN:VCALENDAR
VERSION:2.0
PRODID:-//St. Martin&#039;s Centre Partnership - ECPv6.7.0//NONSGML v1.0//EN
CALSCALE:GREGORIAN
METHOD:PUBLISH
X-ORIGINAL-URL:https://www.stmartinscentre.org.uk
X-WR-CALDESC:Events for St. Martin&#039;s Centre Partnership
REFRESH-INTERVAL;VALUE=DURATION:PT1H
X-Robots-Tag:noindex
X-PUBLISHED-TTL:PT1H
BEGIN:VTIMEZONE
TZID:Europe/London
BEGIN:DAYLIGHT
TZOFFSETFROM:+0000
TZOFFSETTO:+0100
TZNAME:BST
DTSTART:20260329T010000
END:DAYLIGHT
BEGIN:STANDARD
TZOFFSETFROM:+0100
TZOFFSETTO:+0000
TZNAME:GMT
DTSTART:20261025T010000
END:STANDARD
END:VTIMEZONE
BEGIN:VEVENT
DTSTART;TZID=Europe/London:20260515T110000
DTEND;TZID=Europe/London:20260515T130000
DTSTAMP:20260423T093106
CREATED:20250905T152053Z
LAST-MODIFIED:20251004T161209Z
UID:10012541-1778842800-1778850000@www.stmartinscentre.org.uk
SUMMARY:Wellbeing Walks
DESCRIPTION:Meet at 11.00am\, third Friday of the month. \nJoin us for a walk. Chat and catch up with friends whilst gently exercising (and a tea break always included en-route). Routes and meeting places will vary. \nContact Reception for more details.
URL:https://www.stmartinscentre.org.uk/event/wellbeing-walks/2026-05-15/
ATTACH;FMTTYPE=image/jpeg:https://www.stmartinscentre.org.uk/wp-content/uploads/2025/09/Walking1.jpg
END:VEVENT
BEGIN:VEVENT
DTSTART;TZID=Europe/London:20260619T110000
DTEND;TZID=Europe/London:20260619T130000
DTSTAMP:20260423T093106
CREATED:20250905T152053Z
LAST-MODIFIED:20251004T161209Z
UID:10012542-1781866800-1781874000@www.stmartinscentre.org.uk
SUMMARY:Wellbeing Walks
DESCRIPTION:Meet at 11.00am\, third Friday of the month. \nJoin us for a walk. Chat and catch up with friends whilst gently exercising (and a tea break always included en-route). Routes and meeting places will vary. \nContact Reception for more details.
URL:https://www.stmartinscentre.org.uk/event/wellbeing-walks/2026-06-19/
ATTACH;FMTTYPE=image/jpeg:https://www.stmartinscentre.org.uk/wp-content/uploads/2025/09/Walking1.jpg
END:VEVENT
BEGIN:VEVENT
DTSTART;TZID=Europe/London:20260717T110000
DTEND;TZID=Europe/London:20260717T130000
DTSTAMP:20260423T093106
CREATED:20250905T152053Z
LAST-MODIFIED:20251004T161209Z
UID:10012740-1784286000-1784293200@www.stmartinscentre.org.uk
SUMMARY:Wellbeing Walks
DESCRIPTION:Meet at 11.00am\, third Friday of the month. \nJoin us for a walk. Chat and catch up with friends whilst gently exercising (and a tea break always included en-route). Routes and meeting places will vary. \nContact Reception for more details.
URL:https://www.stmartinscentre.org.uk/event/wellbeing-walks/2026-07-17/
ATTACH;FMTTYPE=image/jpeg:https://www.stmartinscentre.org.uk/wp-content/uploads/2025/09/Walking1.jpg
END:VEVENT
END:VCALENDAR