BEGIN:VCALENDAR
VERSION:2.0
PRODID:-//St. Martin&#039;s Centre Partnership - ECPv6.7.0//NONSGML v1.0//EN
CALSCALE:GREGORIAN
METHOD:PUBLISH
X-WR-CALNAME:St. Martin&#039;s Centre Partnership
X-ORIGINAL-URL:https://www.stmartinscentre.org.uk
X-WR-CALDESC:Events for St. Martin&#039;s Centre Partnership
REFRESH-INTERVAL;VALUE=DURATION:PT1H
X-Robots-Tag:noindex
X-PUBLISHED-TTL:PT1H
BEGIN:VTIMEZONE
TZID:Europe/London
BEGIN:DAYLIGHT
TZOFFSETFROM:+0000
TZOFFSETTO:+0100
TZNAME:BST
DTSTART:20260329T010000
END:DAYLIGHT
BEGIN:STANDARD
TZOFFSETFROM:+0100
TZOFFSETTO:+0000
TZNAME:GMT
DTSTART:20261025T010000
END:STANDARD
END:VTIMEZONE
BEGIN:VEVENT
DTSTART;TZID=Europe/London:20260325T090000
DTEND;TZID=Europe/London:20260325T100000
DTSTAMP:20260423T093426
CREATED:20260129T140559Z
LAST-MODIFIED:20260414T104555Z
UID:10014060-1774429200-1774432800@www.stmartinscentre.org.uk
SUMMARY:Dance it Off
DESCRIPTION:Come along and move to the music while making some new friends and getting fitter for 2026. \nLow-intensity dance moves will help improve cardiovascular fitness while being gentle on the joints.
URL:https://www.stmartinscentre.org.uk/event/dance-it-off/2026-03-25/
ATTACH;FMTTYPE=image/jpeg:https://www.stmartinscentre.org.uk/wp-content/uploads/2026/01/Dance-it-off.jpg
END:VEVENT
BEGIN:VEVENT
DTSTART;TZID=Europe/London:20260325T080000
DTEND;TZID=Europe/London:20260325T170000
DTSTAMP:20260423T093426
CREATED:20260325T093439Z
LAST-MODIFIED:20260325T093439Z
UID:10014264-1774425600-1774458000@www.stmartinscentre.org.uk
SUMMARY:Crochet Group
DESCRIPTION:All materials and refreshments provided. \nAll levels welcome\, learn how to crochet while having fun.  Contact Reception on 0191 276 4002 to book your place
URL:https://www.stmartinscentre.org.uk/event/crochet-group-2-2-2/2026-03-25/
ATTACH;FMTTYPE=image/png:https://www.stmartinscentre.org.uk/wp-content/uploads/2025/08/Crochet-group-002.png
END:VEVENT
BEGIN:VEVENT
DTSTART;TZID=Europe/London:20260324T133000
DTEND;TZID=Europe/London:20260324T153000
DTSTAMP:20260423T093426
CREATED:20251206T131238Z
LAST-MODIFIED:20260407T132146Z
UID:10013093-1774359000-1774366200@www.stmartinscentre.org.uk
SUMMARY:Church Tea Club
DESCRIPTION:This group has been running for over 50 years! It is a supportive group open to anybody over 55 years old\, where you can enjoy cakes\, biscuits and tea/coffee whilst playing bingo and a raffle.
URL:https://www.stmartinscentre.org.uk/event/church-tea-club-2-2/2026-03-24/
END:VEVENT
BEGIN:VEVENT
DTSTART;TZID=Europe/London:20260324T100000
DTEND;TZID=Europe/London:20260324T140000
DTSTAMP:20260423T093426
CREATED:20251217T100312Z
LAST-MODIFIED:20251217T100312Z
UID:10013236-1774346400-1774360800@www.stmartinscentre.org.uk
SUMMARY:Benefits Advice (over 55s)
DESCRIPTION:Help and information on what benefits are available for the over 55s that they may be entitled to. By appointment only\, please contact the centre for more information.
URL:https://www.stmartinscentre.org.uk/event/benefits-advice-over-55s-2/2026-03-24/
ATTACH;FMTTYPE=image/jpeg:https://www.stmartinscentre.org.uk/wp-content/uploads/2025/03/Benefits.jpg
END:VEVENT
BEGIN:VEVENT
DTSTART;TZID=Europe/London:20260324T100000
DTEND;TZID=Europe/London:20260324T123000
DTSTAMP:20260423T093426
CREATED:20260211T120007Z
LAST-MODIFIED:20260211T120220Z
UID:10014239-1774346400-1774355400@www.stmartinscentre.org.uk
SUMMARY:Art for Beginners (am)
DESCRIPTION:Get Started with Art Series (with Newcastle City Learning). All materials will be provided by the tutor. \nTo book or for more information contact Newcastle City Learning on (0191) 278 2818.
URL:https://www.stmartinscentre.org.uk/event/art-session-2-3-2-2-2-2/2026-03-24/
LOCATION:St Martin’s Centre\, Roman Avenue\, Newcastle upon Tyne\, NE6 2RJ\, United Kingdom
ATTACH;FMTTYPE=image/jpeg:https://www.stmartinscentre.org.uk/wp-content/uploads/2024/03/art-class.jpg
END:VEVENT
BEGIN:VEVENT
DTSTART;TZID=Europe/London:20260324T100000
DTEND;TZID=Europe/London:20260324T113000
DTSTAMP:20260423T093426
CREATED:20251206T131135Z
LAST-MODIFIED:20260406T163829Z
UID:10014549-1774346400-1774351800@www.stmartinscentre.org.uk
SUMMARY:Stay & Play (Speech and Language Focused) - suitable for 2-3 year olds
DESCRIPTION:(Speech and Language Focused) – suitable for 2-3 year olds. \n\nPlay\nMusic\nSensory Activities\n\nRefreshments available\, \nPlaces are limited so must be booked in advance (blocks of 6 weeks) \nContact Jo-Anna@stmartinscentre.org.uk or telephone 0191 276 4002.
URL:https://www.stmartinscentre.org.uk/event/stay-play-speech-and-language-focused-suitable-for-toddlers-over-18-months-2-2/2026-03-24/
ATTACH;FMTTYPE=image/jpeg:https://www.stmartinscentre.org.uk/wp-content/uploads/2024/05/Children-and-Families-11-scaled.jpg
END:VEVENT
BEGIN:VEVENT
DTSTART;TZID=Europe/London:20260323T133000
DTEND;TZID=Europe/London:20260323T143000
DTSTAMP:20260423T093426
CREATED:20251206T130638Z
LAST-MODIFIED:20251206T130638Z
UID:10013353-1774272600-1774276200@www.stmartinscentre.org.uk
SUMMARY:Meditation Class
DESCRIPTION:Come and enjoy an hour of peace and relaxation with Nicola.  Please book your place at Reception. \n 
URL:https://www.stmartinscentre.org.uk/event/meditation-course-8-5-3-3-2-2/2026-03-23/
LOCATION:St Martin’s Centre\, Roman Avenue\, Newcastle upon Tyne\, NE6 2RJ\, United Kingdom
ATTACH;FMTTYPE=image/jpeg:https://www.stmartinscentre.org.uk/wp-content/uploads/2025/03/Meditation-1.jpg
END:VEVENT
BEGIN:VEVENT
DTSTART;TZID=Europe/London:20260323T130000
DTEND;TZID=Europe/London:20260323T150000
DTSTAMP:20260423T093426
CREATED:20260129T142709Z
LAST-MODIFIED:20260129T142709Z
UID:10014096-1774270800-1774278000@www.stmartinscentre.org.uk
SUMMARY:Memory Tea (Dementia Friendly)
DESCRIPTION:Second and fourth Monday of each month. Suggestion donation of £2.00. \nDementia friendly\, carers\, friends and family welcome.\nCome along and join in our dementia friendly fun activities or just enjoy a cuppa and a chat! If you would like more information\, please call Yvonne on 0191 276 4002.
URL:https://www.stmartinscentre.org.uk/event/memory-tea-6-3-2-2-2-3/2026-03-23/
ATTACH;FMTTYPE=image/jpeg:https://www.stmartinscentre.org.uk/wp-content/uploads/2024/03/memory-tea.jpg
END:VEVENT
BEGIN:VEVENT
DTSTART;TZID=Europe/London:20260323T103000
DTEND;TZID=Europe/London:20260323T113000
DTSTAMP:20260423T093426
CREATED:20251206T130352Z
LAST-MODIFIED:20251206T130353Z
UID:10013567-1774261800-1774265400@www.stmartinscentre.org.uk
SUMMARY:Chi Me
DESCRIPTION:Helps improve flexibility\, balance\, mobility and can help with pain.
URL:https://www.stmartinscentre.org.uk/event/chi-me-2-2-2-2/2026-03-23/
LOCATION:St Martin’s Centre\, Roman Avenue\, Newcastle upon Tyne\, NE6 2RJ\, United Kingdom
ATTACH;FMTTYPE=image/jpeg:https://www.stmartinscentre.org.uk/wp-content/uploads/2024/09/Chi-Me.jpg
END:VEVENT
BEGIN:VEVENT
DTSTART;TZID=Europe/London:20260323T100000
DTEND;TZID=Europe/London:20260323T120000
DTSTAMP:20260423T093426
CREATED:20251206T130212Z
LAST-MODIFIED:20251206T130212Z
UID:10013704-1774260000-1774267200@www.stmartinscentre.org.uk
SUMMARY:Tots & Tea (Term Time Only)
DESCRIPTION:Drop in between 10.00am – 12.00pm\, for parents and carers of children 0-5 \nChat to other parents\, find out what’s on in your area and meet people from different services. \nRefreshments available. \nFor more information contact Olivia on olivia@stmartinscentre.org.uk or telephone 0191 276 4002
URL:https://www.stmartinscentre.org.uk/event/parent-coffee-morning-term-time-only-3-2-2/2026-03-23/
ATTACH;FMTTYPE=image/jpeg:https://www.stmartinscentre.org.uk/wp-content/uploads/2025/06/OIP.jpeg
END:VEVENT
END:VCALENDAR