BEGIN:VCALENDAR
VERSION:2.0
PRODID:-//St. Martin&#039;s Centre Partnership - ECPv6.7.0//NONSGML v1.0//EN
CALSCALE:GREGORIAN
METHOD:PUBLISH
X-ORIGINAL-URL:https://www.stmartinscentre.org.uk
X-WR-CALDESC:Events for St. Martin&#039;s Centre Partnership
REFRESH-INTERVAL;VALUE=DURATION:PT1H
X-Robots-Tag:noindex
X-PUBLISHED-TTL:PT1H
BEGIN:VTIMEZONE
TZID:Europe/London
BEGIN:DAYLIGHT
TZOFFSETFROM:+0000
TZOFFSETTO:+0100
TZNAME:BST
DTSTART:20260329T010000
END:DAYLIGHT
BEGIN:STANDARD
TZOFFSETFROM:+0100
TZOFFSETTO:+0000
TZNAME:GMT
DTSTART:20261025T010000
END:STANDARD
END:VTIMEZONE
BEGIN:VEVENT
DTSTART;TZID=Europe/London:20260611T133000
DTEND;TZID=Europe/London:20260611T143000
DTSTAMP:20260422T092659
CREATED:20260406T162945Z
LAST-MODIFIED:20260414T100049Z
UID:10014567-1781184600-1781188200@www.stmartinscentre.org.uk
SUMMARY:Baby Social (0-12 months)
DESCRIPTION:A friendly and supportive group for parents and babies up to 12 months old.
URL:https://www.stmartinscentre.org.uk/event/baby-social-0-12-months-4-2-6-2-2-2/2026-06-11/
LOCATION:St Martin’s Centre\, Roman Avenue\, Newcastle upon Tyne\, NE6 2RJ\, United Kingdom
ATTACH;FMTTYPE=image/jpeg:https://www.stmartinscentre.org.uk/wp-content/uploads/2024/03/playtime.jpg
END:VEVENT
BEGIN:VEVENT
DTSTART;TZID=Europe/London:20260611T180000
DTEND;TZID=Europe/London:20260611T190000
DTSTAMP:20260422T092659
CREATED:20260414T110108Z
LAST-MODIFIED:20260420T114244Z
UID:10014848-1781200800-1781204400@www.stmartinscentre.org.uk
SUMMARY:Line Dancing (evening session)
DESCRIPTION:Yeehah! Take your partners and step into a foot stompin’ favourite.
URL:https://www.stmartinscentre.org.uk/event/line-dancing-evening-session/2026-06-11/
ATTACH;FMTTYPE=image/jpeg:https://www.stmartinscentre.org.uk/wp-content/uploads/2024/09/Line-Dancing.jpg
END:VEVENT
BEGIN:VEVENT
DTSTART;TZID=Europe/London:20260612T100000
DTEND;TZID=Europe/London:20260612T113000
DTSTAMP:20260422T092659
CREATED:20260211T121030Z
LAST-MODIFIED:20260414T095926Z
UID:10014768-1781258400-1781263800@www.stmartinscentre.org.uk
SUMMARY:Breast Feeding Peer Support Group
DESCRIPTION:A Breast Feeding support group for breast feeding mums and mums-to-be. Come along and pick up some handy tips and advice\, chat with a coordinator and meet other breastfeeding mums.
URL:https://www.stmartinscentre.org.uk/event/breast-feeding-peer-support-group-2-2-2-2/2026-06-12/
ATTACH;FMTTYPE=image/jpeg:https://www.stmartinscentre.org.uk/wp-content/uploads/2024/03/breastfeeding.jpg
END:VEVENT
BEGIN:VEVENT
DTSTART;TZID=Europe/London:20260612T103000
DTEND;TZID=Europe/London:20260612T123000
DTSTAMP:20260422T092659
CREATED:20260325T093439Z
LAST-MODIFIED:20260325T093439Z
UID:10014274-1781260200-1781267400@www.stmartinscentre.org.uk
SUMMARY:Crochet Group
DESCRIPTION:All materials and refreshments provided. \nAll levels welcome\, learn how to crochet while having fun.  Contact Reception on 0191 276 4002 to book your place
URL:https://www.stmartinscentre.org.uk/event/crochet-group-2-2-2/2026-06-12/
ATTACH;FMTTYPE=image/png:https://www.stmartinscentre.org.uk/wp-content/uploads/2025/08/Crochet-group-002.png
END:VEVENT
BEGIN:VEVENT
DTSTART;TZID=Europe/London:20260612T113000
DTEND;TZID=Europe/London:20260612T123000
DTSTAMP:20260422T092659
CREATED:20260416T152849Z
LAST-MODIFIED:20260416T154722Z
UID:10014868-1781263800-1781267400@www.stmartinscentre.org.uk
SUMMARY:Pilates
DESCRIPTION:New Group \nDo at your own pace and ability. Contact Reception on 0191 276 4002 to book your place.
URL:https://www.stmartinscentre.org.uk/event/pilates/2026-06-12/
LOCATION:St Martin’s Centre\, Roman Avenue\, Newcastle upon Tyne\, NE6 2RJ\, United Kingdom
ATTACH;FMTTYPE=image/jpeg:https://www.stmartinscentre.org.uk/wp-content/uploads/2026/04/Pilates.jpg
END:VEVENT
BEGIN:VEVENT
DTSTART;TZID=Europe/London:20260612T130000
DTEND;TZID=Europe/London:20260612T140000
DTSTAMP:20260422T092659
CREATED:20251206T125252Z
LAST-MODIFIED:20260414T095531Z
UID:10014738-1781269200-1781272800@www.stmartinscentre.org.uk
SUMMARY:Tai Chi (over 55s)
DESCRIPTION:Come along and enjoy this relaxing and gentle exercise session.
URL:https://www.stmartinscentre.org.uk/event/tai-chi-over-55s-2-4-2/2026-06-12/
LOCATION:St Martin’s Centre\, Roman Avenue\, Newcastle upon Tyne\, NE6 2RJ\, United Kingdom
ATTACH;FMTTYPE=image/jpeg:https://www.stmartinscentre.org.uk/wp-content/uploads/2024/09/Tai-Chi.jpeg
END:VEVENT
BEGIN:VEVENT
DTSTART;TZID=Europe/London:20260615T001500
DTEND;TZID=Europe/London:20260615T004500
DTSTAMP:20260422T092659
CREATED:20260408T111502Z
LAST-MODIFIED:20260409T141128Z
UID:10014680-1781482500-1781484300@www.stmartinscentre.org.uk
SUMMARY:Early Years Pop-up Library (pm) - term time only
DESCRIPTION:For parents and carers of children 0-5 years. \nLots of books for your child to choose from\, take it home to enjoy! \nSelect and swap each week.
URL:https://www.stmartinscentre.org.uk/event/early-years-pop-up-library-term-time-only-2-2-2/2026-06-15/
END:VEVENT
BEGIN:VEVENT
DTSTART;TZID=Europe/London:20260615T082000
DTEND;TZID=Europe/London:20260615T110000
DTSTAMP:20260422T092659
CREATED:20260409T142134Z
LAST-MODIFIED:20260409T143217Z
UID:10014715-1781511600-1781521200@www.stmartinscentre.org.uk
SUMMARY:Early Years Pop-up Library (am) - term time only
DESCRIPTION:For parents and carers of children 0-5 years. \nLots of books for your child to choose from\, take it home to enjoy! \nSelect and swap each week.
URL:https://www.stmartinscentre.org.uk/event/early-years-pop-up-library-term-time-only-3-2/2026-06-15/
END:VEVENT
BEGIN:VEVENT
DTSTART;TZID=Europe/London:20260615T090000
DTEND;TZID=Europe/London:20260615T110000
DTSTAMP:20260422T092659
CREATED:20260406T164255Z
LAST-MODIFIED:20260407T131629Z
UID:10014602-1781514000-1781521200@www.stmartinscentre.org.uk
SUMMARY:Tots & Tea - Term Time Only
DESCRIPTION:Play session and coffee morning for parents and carers of children 0-5 \nChat to other parents\, find out what’s on in your area and meet people from different services. \nRefreshments available. \nFor more information contact Olivia on olivia@stmartinscentre.org.uk or telephone 0191 276 4002
URL:https://www.stmartinscentre.org.uk/event/parent-coffee-morning-term-time-only-3-2-2-2/2026-06-15/
ATTACH;FMTTYPE=image/jpeg:https://www.stmartinscentre.org.uk/wp-content/uploads/2025/06/OIP.jpeg
END:VEVENT
BEGIN:VEVENT
DTSTART;TZID=Europe/London:20260615T103000
DTEND;TZID=Europe/London:20260615T113000
DTSTAMP:20260422T092659
CREATED:20251206T130352Z
LAST-MODIFIED:20251206T130353Z
UID:10013579-1781519400-1781523000@www.stmartinscentre.org.uk
SUMMARY:Chi Me
DESCRIPTION:Helps improve flexibility\, balance\, mobility and can help with pain.
URL:https://www.stmartinscentre.org.uk/event/chi-me-2-2-2-2/2026-06-15/
LOCATION:St Martin’s Centre\, Roman Avenue\, Newcastle upon Tyne\, NE6 2RJ\, United Kingdom
ATTACH;FMTTYPE=image/jpeg:https://www.stmartinscentre.org.uk/wp-content/uploads/2024/09/Chi-Me.jpg
END:VEVENT
BEGIN:VEVENT
DTSTART;TZID=Europe/London:20260615T133000
DTEND;TZID=Europe/London:20260615T143000
DTSTAMP:20260422T092659
CREATED:20251206T130638Z
LAST-MODIFIED:20251206T130638Z
UID:10013365-1781530200-1781533800@www.stmartinscentre.org.uk
SUMMARY:Meditation Class
DESCRIPTION:Come and enjoy an hour of peace and relaxation with Nicola.  Please book your place at Reception. \n 
URL:https://www.stmartinscentre.org.uk/event/meditation-course-8-5-3-3-2-2/2026-06-15/
LOCATION:St Martin’s Centre\, Roman Avenue\, Newcastle upon Tyne\, NE6 2RJ\, United Kingdom
ATTACH;FMTTYPE=image/jpeg:https://www.stmartinscentre.org.uk/wp-content/uploads/2025/03/Meditation-1.jpg
END:VEVENT
BEGIN:VEVENT
DTSTART;TZID=Europe/London:20260616T100000
DTEND;TZID=Europe/London:20260616T113000
DTSTAMP:20260422T092659
CREATED:20260409T134749Z
LAST-MODIFIED:20260409T134750Z
UID:10014640-1781604000-1781609400@www.stmartinscentre.org.uk
SUMMARY:Literary Trusts Early Words Together - term time only (suitable for 2-3 year olds)
DESCRIPTION:(Speech and Language Focused) – suitable for 2-3 year olds. \n\nPlay\nMusic\nSensory Activities\n\nRefreshments available\, \nPlaces are limited so must be booked in advance (blocks of 6 weeks) \nContact Jo-Anna@stmartinscentre.org.uk or telephone 0191 276 4002.
URL:https://www.stmartinscentre.org.uk/event/stay-play-speech-and-language-focused-suitable-for-toddlers-over-18-months-2-2-2-2/2026-06-16/
ATTACH;FMTTYPE=image/jpeg:https://www.stmartinscentre.org.uk/wp-content/uploads/2024/05/Children-and-Families-11-scaled.jpg
END:VEVENT
BEGIN:VEVENT
DTSTART;TZID=Europe/London:20260616T110000
DTEND;TZID=Europe/London:20260616T120000
DTSTAMP:20260422T092659
CREATED:20260414T102707Z
LAST-MODIFIED:20260420T114338Z
UID:10014795-1781607600-1781611200@www.stmartinscentre.org.uk
SUMMARY:Line Dancing
DESCRIPTION:Yeehah! Take your partners and step into a foot stompin’ favourite.
URL:https://www.stmartinscentre.org.uk/event/line-dancing/2026-06-16/
ATTACH;FMTTYPE=image/jpeg:https://www.stmartinscentre.org.uk/wp-content/uploads/2024/09/Line-Dancing.jpg
END:VEVENT
BEGIN:VEVENT
DTSTART;TZID=Europe/London:20260616T133000
DTEND;TZID=Europe/London:20260616T153000
DTSTAMP:20260422T092659
CREATED:20251206T131238Z
LAST-MODIFIED:20260407T132146Z
UID:10013105-1781616600-1781623800@www.stmartinscentre.org.uk
SUMMARY:Church Tea Club
DESCRIPTION:This group has been running for over 50 years! It is a supportive group open to anybody over 55 years old\, where you can enjoy cakes\, biscuits and tea/coffee whilst playing bingo and a raffle.
URL:https://www.stmartinscentre.org.uk/event/church-tea-club-2-2/2026-06-16/
END:VEVENT
BEGIN:VEVENT
DTSTART;TZID=Europe/London:20260617T090000
DTEND;TZID=Europe/London:20260617T100000
DTSTAMP:20260422T092659
CREATED:20260129T140559Z
LAST-MODIFIED:20260414T104555Z
UID:10014813-1781686800-1781690400@www.stmartinscentre.org.uk
SUMMARY:Dance it Off
DESCRIPTION:Come along and move to the music while making some new friends and getting fitter for 2026. \nLow-intensity dance moves will help improve cardiovascular fitness while being gentle on the joints.
URL:https://www.stmartinscentre.org.uk/event/dance-it-off/2026-06-17/
ATTACH;FMTTYPE=image/jpeg:https://www.stmartinscentre.org.uk/wp-content/uploads/2026/01/Dance-it-off.jpg
END:VEVENT
BEGIN:VEVENT
DTSTART;TZID=Europe/London:20260617T100000
DTEND;TZID=Europe/London:20260617T113000
DTSTAMP:20260422T092659
CREATED:20260409T133945Z
LAST-MODIFIED:20260409T133946Z
UID:10014630-1781690400-1781695800@www.stmartinscentre.org.uk
SUMMARY:Tiny Toddlers - next steps (suitable for children 0-2 years)
DESCRIPTION:Term time only \n\nStories\nRhymes\nMusic\nInteractive Play\n\nRefreshments available. \nPlaces are limited so must be booked in advance (blocks of 6 weeks) \nContact Olivia on olivia@stmartinscentre.org.uk or telephone 0191 276 4002.
URL:https://www.stmartinscentre.org.uk/event/tiny-toddlers-next-steps-suitable-for-babies-12-24-months-2-3-2-2-2-2-2/2026-06-17/
LOCATION:St Martin’s Centre\, Roman Avenue\, Newcastle upon Tyne\, NE6 2RJ\, United Kingdom
ATTACH;FMTTYPE=image/jpeg:https://www.stmartinscentre.org.uk/wp-content/uploads/2024/03/babies.jpg
END:VEVENT
BEGIN:VEVENT
DTSTART;TZID=Europe/London:20260617T103000
DTEND;TZID=Europe/London:20260617T113000
DTSTAMP:20260422T092659
CREATED:20251206T131434Z
LAST-MODIFIED:20260414T095746Z
UID:10014757-1781692200-1781695800@www.stmartinscentre.org.uk
SUMMARY:Zumba Gold
DESCRIPTION:Low impact and easy to follow session. No booking required\, all welcome.
URL:https://www.stmartinscentre.org.uk/event/zumba-gold-2-2-2-2/2026-06-17/
LOCATION:St Martin’s Centre\, Roman Avenue\, Newcastle upon Tyne\, NE6 2RJ\, United Kingdom
ATTACH;FMTTYPE=image/jpeg:https://www.stmartinscentre.org.uk/wp-content/uploads/2024/03/zumba-gold.jpg
END:VEVENT
BEGIN:VEVENT
DTSTART;TZID=Europe/London:20260617T133000
DTEND;TZID=Europe/London:20260617T153000
DTSTAMP:20260422T092659
CREATED:20260406T105823Z
LAST-MODIFIED:20260407T132534Z
UID:10014296-1781703000-1781710200@www.stmartinscentre.org.uk
SUMMARY:In Good Company
DESCRIPTION:Sharing time\, stories and smiles! \nWe’d love to see you at our friendly\, relaxed social group. Receive a warm welcome and a chance to be around others. Get involved as much or as little as you like\, or simply have a cup of tea and a chat\, \nEvery Wednesday 1.30pm – 3.30pm. Cost £2.00 \nContact Reception on 0191 276 4002 to find out more.
URL:https://www.stmartinscentre.org.uk/event/in-good-company-3/2026-06-17/
END:VEVENT
BEGIN:VEVENT
DTSTART;TZID=Europe/London:20260618T103000
DTEND;TZID=Europe/London:20260618T120000
DTSTAMP:20260422T092659
CREATED:20251105T102815Z
LAST-MODIFIED:20260407T133111Z
UID:10013487-1781778600-1781784000@www.stmartinscentre.org.uk
SUMMARY:Crafts with Jackie
DESCRIPTION:Everything provided including refreshments. Jackie will be covering the following: pop up boxes\, handbags\, gift bags\, felt & fabric decorations\, plus lots more. Max 12 places per session\, please book with Reception.
URL:https://www.stmartinscentre.org.uk/event/crafts-with-jackie-2-2/2026-06-18/
ATTACH;FMTTYPE=image/jpeg:https://www.stmartinscentre.org.uk/wp-content/uploads/2024/03/crafts-with-jackie.jpg
END:VEVENT
BEGIN:VEVENT
DTSTART;TZID=Europe/London:20260618T120000
DTEND;TZID=Europe/London:20260618T130000
DTSTAMP:20260422T092659
CREATED:20251105T091226Z
LAST-MODIFIED:20260407T133017Z
UID:10013406-1781784000-1781787600@www.stmartinscentre.org.uk
SUMMARY:Fit 'n' Fab (over 55s)
DESCRIPTION:The exercises are easy and fun to do – suitable for all abilities.
URL:https://www.stmartinscentre.org.uk/event/fit-n-fab-over-55s-3/2026-06-18/
ATTACH;FMTTYPE=image/jpeg:https://www.stmartinscentre.org.uk/wp-content/uploads/2024/09/exercise-clipart.jpg
END:VEVENT
BEGIN:VEVENT
DTSTART;TZID=Europe/London:20260618T130000
DTEND;TZID=Europe/London:20260618T143000
DTSTAMP:20260422T092659
CREATED:20251217T095225Z
LAST-MODIFIED:20251217T095225Z
UID:10013766-1781787600-1781793000@www.stmartinscentre.org.uk
SUMMARY:Health Visitor Baby Clinic
DESCRIPTION:Walk-in Baby weighing clinic.
URL:https://www.stmartinscentre.org.uk/event/health-visitor-baby-clinic-2/2026-06-18/
ATTACH;FMTTYPE=image/jpeg:https://www.stmartinscentre.org.uk/wp-content/uploads/2024/03/breastfeeding.jpg
END:VEVENT
BEGIN:VEVENT
DTSTART;TZID=Europe/London:20260618T133000
DTEND;TZID=Europe/London:20260618T143000
DTSTAMP:20260422T092659
CREATED:20260406T162945Z
LAST-MODIFIED:20260414T100049Z
UID:10014776-1781789400-1781793000@www.stmartinscentre.org.uk
SUMMARY:Baby Social (0-12 months)
DESCRIPTION:A friendly and supportive group for parents and babies up to 12 months old.
URL:https://www.stmartinscentre.org.uk/event/baby-social-0-12-months-4-2-6-2-2-2/2026-06-18/
LOCATION:St Martin’s Centre\, Roman Avenue\, Newcastle upon Tyne\, NE6 2RJ\, United Kingdom
ATTACH;FMTTYPE=image/jpeg:https://www.stmartinscentre.org.uk/wp-content/uploads/2024/03/playtime.jpg
END:VEVENT
BEGIN:VEVENT
DTSTART;TZID=Europe/London:20260618T180000
DTEND;TZID=Europe/London:20260618T190000
DTSTAMP:20260422T092659
CREATED:20260414T110108Z
LAST-MODIFIED:20260420T114244Z
UID:10014849-1781805600-1781809200@www.stmartinscentre.org.uk
SUMMARY:Line Dancing (evening session)
DESCRIPTION:Yeehah! Take your partners and step into a foot stompin’ favourite.
URL:https://www.stmartinscentre.org.uk/event/line-dancing-evening-session/2026-06-18/
ATTACH;FMTTYPE=image/jpeg:https://www.stmartinscentre.org.uk/wp-content/uploads/2024/09/Line-Dancing.jpg
END:VEVENT
BEGIN:VEVENT
DTSTART;TZID=Europe/London:20260619T100000
DTEND;TZID=Europe/London:20260619T113000
DTSTAMP:20260422T092659
CREATED:20260211T121030Z
LAST-MODIFIED:20260414T095926Z
UID:10014769-1781863200-1781868600@www.stmartinscentre.org.uk
SUMMARY:Breast Feeding Peer Support Group
DESCRIPTION:A Breast Feeding support group for breast feeding mums and mums-to-be. Come along and pick up some handy tips and advice\, chat with a coordinator and meet other breastfeeding mums.
URL:https://www.stmartinscentre.org.uk/event/breast-feeding-peer-support-group-2-2-2-2/2026-06-19/
ATTACH;FMTTYPE=image/jpeg:https://www.stmartinscentre.org.uk/wp-content/uploads/2024/03/breastfeeding.jpg
END:VEVENT
BEGIN:VEVENT
DTSTART;TZID=Europe/London:20260619T103000
DTEND;TZID=Europe/London:20260619T123000
DTSTAMP:20260422T092659
CREATED:20260325T093439Z
LAST-MODIFIED:20260325T093439Z
UID:10014275-1781865000-1781872200@www.stmartinscentre.org.uk
SUMMARY:Crochet Group
DESCRIPTION:All materials and refreshments provided. \nAll levels welcome\, learn how to crochet while having fun.  Contact Reception on 0191 276 4002 to book your place
URL:https://www.stmartinscentre.org.uk/event/crochet-group-2-2-2/2026-06-19/
ATTACH;FMTTYPE=image/png:https://www.stmartinscentre.org.uk/wp-content/uploads/2025/08/Crochet-group-002.png
END:VEVENT
BEGIN:VEVENT
DTSTART;TZID=Europe/London:20260619T110000
DTEND;TZID=Europe/London:20260619T130000
DTSTAMP:20260422T092659
CREATED:20250905T152053Z
LAST-MODIFIED:20251004T161209Z
UID:10012542-1781866800-1781874000@www.stmartinscentre.org.uk
SUMMARY:Wellbeing Walks
DESCRIPTION:Meet at 11.00am\, third Friday of the month. \nJoin us for a walk. Chat and catch up with friends whilst gently exercising (and a tea break always included en-route). Routes and meeting places will vary. \nContact Reception for more details.
URL:https://www.stmartinscentre.org.uk/event/wellbeing-walks/2026-06-19/
ATTACH;FMTTYPE=image/jpeg:https://www.stmartinscentre.org.uk/wp-content/uploads/2025/09/Walking1.jpg
END:VEVENT
BEGIN:VEVENT
DTSTART;TZID=Europe/London:20260619T113000
DTEND;TZID=Europe/London:20260619T123000
DTSTAMP:20260422T092659
CREATED:20260416T152849Z
LAST-MODIFIED:20260416T154722Z
UID:10014869-1781868600-1781872200@www.stmartinscentre.org.uk
SUMMARY:Pilates
DESCRIPTION:New Group \nDo at your own pace and ability. Contact Reception on 0191 276 4002 to book your place.
URL:https://www.stmartinscentre.org.uk/event/pilates/2026-06-19/
LOCATION:St Martin’s Centre\, Roman Avenue\, Newcastle upon Tyne\, NE6 2RJ\, United Kingdom
ATTACH;FMTTYPE=image/jpeg:https://www.stmartinscentre.org.uk/wp-content/uploads/2026/04/Pilates.jpg
END:VEVENT
BEGIN:VEVENT
DTSTART;TZID=Europe/London:20260619T130000
DTEND;TZID=Europe/London:20260619T140000
DTSTAMP:20260422T092659
CREATED:20251206T125252Z
LAST-MODIFIED:20260414T095531Z
UID:10014739-1781874000-1781877600@www.stmartinscentre.org.uk
SUMMARY:Tai Chi (over 55s)
DESCRIPTION:Come along and enjoy this relaxing and gentle exercise session.
URL:https://www.stmartinscentre.org.uk/event/tai-chi-over-55s-2-4-2/2026-06-19/
LOCATION:St Martin’s Centre\, Roman Avenue\, Newcastle upon Tyne\, NE6 2RJ\, United Kingdom
ATTACH;FMTTYPE=image/jpeg:https://www.stmartinscentre.org.uk/wp-content/uploads/2024/09/Tai-Chi.jpeg
END:VEVENT
BEGIN:VEVENT
DTSTART;TZID=Europe/London:20260622T001500
DTEND;TZID=Europe/London:20260622T004500
DTSTAMP:20260422T092659
CREATED:20260408T111502Z
LAST-MODIFIED:20260409T141128Z
UID:10014681-1782087300-1782089100@www.stmartinscentre.org.uk
SUMMARY:Early Years Pop-up Library (pm) - term time only
DESCRIPTION:For parents and carers of children 0-5 years. \nLots of books for your child to choose from\, take it home to enjoy! \nSelect and swap each week.
URL:https://www.stmartinscentre.org.uk/event/early-years-pop-up-library-term-time-only-2-2-2/2026-06-22/
END:VEVENT
BEGIN:VEVENT
DTSTART;TZID=Europe/London:20260622T082000
DTEND;TZID=Europe/London:20260622T110000
DTSTAMP:20260422T092659
CREATED:20260409T142134Z
LAST-MODIFIED:20260409T143217Z
UID:10014694-1782116400-1782126000@www.stmartinscentre.org.uk
SUMMARY:Early Years Pop-up Library (am) - term time only
DESCRIPTION:For parents and carers of children 0-5 years. \nLots of books for your child to choose from\, take it home to enjoy! \nSelect and swap each week.
URL:https://www.stmartinscentre.org.uk/event/early-years-pop-up-library-term-time-only-3-2/2026-06-22/
END:VEVENT
END:VCALENDAR